BEGIN:VCALENDAR
VERSION:2.0
PRODID:-//Little Rissington Parish Council//Meeting Calendar//EN
CALSCALE:GREGORIAN
METHOD:PUBLISH
BEGIN:VEVENT
UID:70759-20260511@littlerissington-pc.gov.uk
DTSTAMP:20260420T130645Z
DTSTART;VALUE=DATE:20260511
DTEND;VALUE=DATE:20260512
SUMMARY:11th May 2026 Parish Council meeting
DESCRIPTION:Parish Council Meeting\nView details: https://littlerissington-pc.gov.uk/meetings/may-2026-parish-council-meeting/
URL:https://littlerissington-pc.gov.uk/meetings/may-2026-parish-council-meeting/
END:VEVENT
END:VCALENDAR
